BEGIN:VCALENDAR
VERSION:2.0
PRODID:-//hacksw/handcal//NONSGML v1.0//EN
BEGIN:VEVENT
DTSTART:20190516T150000
DTEND:20190516T170000
LOCATION:Site Universitaire des Tanneurs - salle 070 \n3, Rue des Tanneurs \n37000 TOURS
ORGANIZER;CN=L'équipe Rpro:MAILTO:rpro@univ-tours.fr
SUMMARY:atelier " Postuler en filière sélective"
DESCRIPTION:Vous souhaitez postuler en Licence professionnelle, master ou autre formation sélective. Outre le dossier à compléter on vous demande souvent de rédiger un courrier de motivation et un CV.  Alors,...
URL:https://rpro.univ-tours.fr/fr/event/atelier-postuler-en-filiere-selective/2019/05/16/338
BEGIN:VALARM
TRIGGER:-P0DT1H0M0S
ACTION:DISPLAY
END:VALARM
END:VEVENT
END:VCALENDAR