BEGIN:VCALENDAR
VERSION:2.0
PRODID:-//hacksw/handcal//NONSGML v1.0//EN
BEGIN:VEVENT
DTSTART:20150921T080000
DTEND:20150928T140000
LOCATION:Sur tous les sites universitaires de Tours
ORGANIZER;CN=Rpro Le Réseau:MAILTO:rpro@univ-tours.fr
SUMMARY:Pépite Centre et Rpro vous offrent le petit déjeuner !
DESCRIPTION:\nDu 21 au 28 septembre, toute la semaine, et à partir de 8h30, venez retrouver le réseau pro et le pôle entrepreneuriat de votre université autour d’un petit déjeuner.\nVous recherchez un job, un...
URL:https://rpro.univ-tours.fr/fr/event/pepite-centre-et-rpro-vous-offrent-le-petit-dejeuner/2015/09/21/31
BEGIN:VALARM
TRIGGER:-P0DT1H0M0S
ACTION:DISPLAY
END:VALARM
END:VEVENT
END:VCALENDAR