BEGIN:VCALENDAR
VERSION:2.0
PRODID:-//hacksw/handcal//NONSGML v1.0//EN
BEGIN:VEVENT
DTSTART:20170330T140000
DTEND:20170330T160000
LOCATION:Source Recrutement \n21, Rue Etienne Pallu \n37000 TOURS
ORGANIZER;CN=Rpro Le Réseau:MAILTO:rpro@univ-tours.fr
SUMMARY:Opération "Ouvre-boîtes" avec SOURCE RECRUTEMENT
DESCRIPTION:Le tout nouveau cabinet de recrutement Source, situé en plein coeur de ville, nous ouvre ses portes pour nous présenter ses métiers: chargé de recherche, consultant en recrutement, chargé d'affaire en...
URL:https://rpro.univ-tours.fr/fr/event/operation-ouvre-boites-avec-source-recrutement/2017/03/30/221
BEGIN:VALARM
TRIGGER:-P0DT1H0M0S
ACTION:DISPLAY
END:VALARM
END:VEVENT
END:VCALENDAR