BEGIN:VCALENDAR
VERSION:2.0
PRODID:-//hacksw/handcal//NONSGML v1.0//EN
BEGIN:VEVENT
DTSTART:20160512T090000
DTEND:20160512T180000
LOCATION:le Zénith \n1, Rue du Président Robert Schuman \n45100 ORLEANS
ORGANIZER;CN=CAROLE BEIGNET:MAILTO:caro.beignet@gmail.com
SUMMARY:Forum 2000 emplois 2000 sourires
DESCRIPTION:Évènement novateur, original et festif permettant une véritable rencontre entre les jeunes, les entreprises et les organismes de formation.\nRendez vous rapidement sur le site l'événement pour...
URL:https://rpro.univ-tours.fr/fr/event/forum-2000-emplois-2000-sourires/2016/05/12/147
BEGIN:VALARM
TRIGGER:-P0DT1H0M0S
ACTION:DISPLAY
END:VALARM
END:VEVENT
END:VCALENDAR