BEGIN:VCALENDAR
VERSION:2.0
PRODID:-//hacksw/handcal//NONSGML v1.0//EN
BEGIN:VEVENT
DTSTART:20151014T090000
DTEND:20151014T190000
LOCATION:Online
ORGANIZER;CN=Rpro Le Réseau:MAILTO:rpro@univ-tours.fr
SUMMARY:Salon virtuel "Objectif Emploi"
DESCRIPTION:Le Salon Objectif Emploi est un salon VIRTUEL dédié à tous ceux qui recherchent un emploi, une formation, une alternance ou ceux qui souhaiteraient entamer une reconversion professionnelle.\nLe salon ...
URL:https://rpro.univ-tours.fr/en/event/salon-virtuel-objectif-emploi/2015/10/14/47
BEGIN:VALARM
TRIGGER:-P0DT1H0M0S
ACTION:DISPLAY
END:VALARM
END:VEVENT
END:VCALENDAR